BEGIN:VCALENDAR
VERSION:2.0
PRODID:-//International Business Center - ECPv6.15.17.1//NONSGML v1.0//EN
CALSCALE:GREGORIAN
METHOD:PUBLISH
X-WR-CALNAME:International Business Center
X-ORIGINAL-URL:https://ibc.broad.msu.edu
X-WR-CALDESC:Events for International Business Center
REFRESH-INTERVAL;VALUE=DURATION:PT1H
X-Robots-Tag:noindex
X-PUBLISHED-TTL:PT1H
BEGIN:VTIMEZONE
TZID:America/Detroit
BEGIN:DAYLIGHT
TZOFFSETFROM:-0500
TZOFFSETTO:-0400
TZNAME:EDT
DTSTART:20180311T070000
END:DAYLIGHT
BEGIN:STANDARD
TZOFFSETFROM:-0400
TZOFFSETTO:-0500
TZNAME:EST
DTSTART:20181104T060000
END:STANDARD
BEGIN:DAYLIGHT
TZOFFSETFROM:-0500
TZOFFSETTO:-0400
TZNAME:EDT
DTSTART:20190310T070000
END:DAYLIGHT
BEGIN:STANDARD
TZOFFSETFROM:-0400
TZOFFSETTO:-0500
TZNAME:EST
DTSTART:20191103T060000
END:STANDARD
BEGIN:DAYLIGHT
TZOFFSETFROM:-0500
TZOFFSETTO:-0400
TZNAME:EDT
DTSTART:20200308T070000
END:DAYLIGHT
BEGIN:STANDARD
TZOFFSETFROM:-0400
TZOFFSETTO:-0500
TZNAME:EST
DTSTART:20201101T060000
END:STANDARD
END:VTIMEZONE
BEGIN:VEVENT
DTSTART;TZID=America/Detroit:20190415T000000
DTEND;TZID=America/Detroit:20190416T000000
DTSTAMP:20260420T201958
CREATED:20240319T195540Z
LAST-MODIFIED:20240518T002820Z
UID:10000611-1555286400-1555372800@ibc.broad.msu.edu
SUMMARY:The 6th Annual Interdisciplinary Conference on Cybercrime
DESCRIPTION:6th Annual MSU Interdisciplinary Conference on Cybercrime will be held April 15th and 16th\, 2019 at MSUs University Club\, Heritage room\, on the Michigan State University Campus in East Lansing (https://www.universityclubofmsu.org/). This flagship event\, sponsored in part by the MSU School of Criminal Justice\, seeks to draw world class social and technical science researchers together and present their work in order to promote collaboration between the disciplines and identify new avenues of research to enrich both fields. In addition\, the conference links both fields to industry and policy-makers to transform the landscape of cybersecurity\, policy\, and practice.
URL:https://ibc.broad.msu.edu/event/the-6th-annual-interdisciplinary-conference-on-cybercrime/
LOCATION:East Lansing\, MI\, Chicago\, United States
CATEGORIES:IBC
END:VEVENT
END:VCALENDAR