BEGIN:VCALENDAR
VERSION:2.0
PRODID:-//International Business Center - ECPv6.15.17.1//NONSGML v1.0//EN
CALSCALE:GREGORIAN
METHOD:PUBLISH
X-WR-CALNAME:International Business Center
X-ORIGINAL-URL:https://ibc.broad.msu.edu
X-WR-CALDESC:Events for International Business Center
REFRESH-INTERVAL;VALUE=DURATION:PT1H
X-Robots-Tag:noindex
X-PUBLISHED-TTL:PT1H
BEGIN:VTIMEZONE
TZID:America/Detroit
BEGIN:DAYLIGHT
TZOFFSETFROM:-0500
TZOFFSETTO:-0400
TZNAME:EDT
DTSTART:20190310T070000
END:DAYLIGHT
BEGIN:STANDARD
TZOFFSETFROM:-0400
TZOFFSETTO:-0500
TZNAME:EST
DTSTART:20191103T060000
END:STANDARD
BEGIN:DAYLIGHT
TZOFFSETFROM:-0500
TZOFFSETTO:-0400
TZNAME:EDT
DTSTART:20200308T070000
END:DAYLIGHT
BEGIN:STANDARD
TZOFFSETFROM:-0400
TZOFFSETTO:-0500
TZNAME:EST
DTSTART:20201101T060000
END:STANDARD
BEGIN:DAYLIGHT
TZOFFSETFROM:-0500
TZOFFSETTO:-0400
TZNAME:EDT
DTSTART:20210314T070000
END:DAYLIGHT
BEGIN:STANDARD
TZOFFSETFROM:-0400
TZOFFSETTO:-0500
TZNAME:EST
DTSTART:20211107T060000
END:STANDARD
END:VTIMEZONE
BEGIN:VEVENT
DTSTART;TZID=America/Detroit:20200423T000000
DTEND;TZID=America/Detroit:20200611T000000
DTSTAMP:20260422T152750
CREATED:20240319T195709Z
LAST-MODIFIED:20240518T000249Z
UID:10000579-1587600000-1591833600@ibc.broad.msu.edu
SUMMARY:NASBITE National Conference
DESCRIPTION:Annual NASBITE Conference
URL:https://ibc.broad.msu.edu/event/nasbite-national-conference/
LOCATION:virtual
CATEGORIES:IBC
END:VEVENT
BEGIN:VEVENT
DTSTART;TZID=America/Detroit:20200508T000000
DTEND;TZID=America/Detroit:20200508T000000
DTSTAMP:20260422T152750
CREATED:20240319T195709Z
LAST-MODIFIED:20240518T000225Z
UID:10000578-1588896000-1588896000@ibc.broad.msu.edu
SUMMARY:Community Colleges for International Development Webinar Series: Internationalizing Business Curriculum & Courses
DESCRIPTION:This webinar discusses ways of internationalizing your college’s business curriculum through free resources from Michigan State University CIBER\, including the globalEDGE website and the customizable International Business Institute programs offered at community colleges across the nation.
URL:https://ibc.broad.msu.edu/event/community-colleges-for-international-development-webinar-series-internationalizing-business-curriculum-courses/
LOCATION:virtual
CATEGORIES:IBC
END:VEVENT
END:VCALENDAR