BEGIN:VCALENDAR
VERSION:2.0
PRODID:-//International Business Center - ECPv6.15.17.1//NONSGML v1.0//EN
CALSCALE:GREGORIAN
METHOD:PUBLISH
X-WR-CALNAME:International Business Center
X-ORIGINAL-URL:https://ibc.broad.msu.edu
X-WR-CALDESC:Events for International Business Center
REFRESH-INTERVAL;VALUE=DURATION:PT1H
X-Robots-Tag:noindex
X-PUBLISHED-TTL:PT1H
BEGIN:VTIMEZONE
TZID:America/Detroit
BEGIN:DAYLIGHT
TZOFFSETFROM:-0500
TZOFFSETTO:-0400
TZNAME:EDT
DTSTART:20190310T070000
END:DAYLIGHT
BEGIN:STANDARD
TZOFFSETFROM:-0400
TZOFFSETTO:-0500
TZNAME:EST
DTSTART:20191103T060000
END:STANDARD
BEGIN:DAYLIGHT
TZOFFSETFROM:-0500
TZOFFSETTO:-0400
TZNAME:EDT
DTSTART:20200308T070000
END:DAYLIGHT
BEGIN:STANDARD
TZOFFSETFROM:-0400
TZOFFSETTO:-0500
TZNAME:EST
DTSTART:20201101T060000
END:STANDARD
BEGIN:DAYLIGHT
TZOFFSETFROM:-0500
TZOFFSETTO:-0400
TZNAME:EDT
DTSTART:20210314T070000
END:DAYLIGHT
BEGIN:STANDARD
TZOFFSETFROM:-0400
TZOFFSETTO:-0500
TZNAME:EST
DTSTART:20211107T060000
END:STANDARD
END:VTIMEZONE
BEGIN:VEVENT
DTSTART;TZID=America/Detroit:20200910T000000
DTEND;TZID=America/Detroit:20200910T000000
DTSTAMP:20260422T231523
CREATED:20240319T195646Z
LAST-MODIFIED:20240517T235911Z
UID:10000569-1599696000-1599696000@ibc.broad.msu.edu
SUMMARY:Lansing Regional Chamber - Economic Club\, Local Government Panel\, September 10\, 2020
DESCRIPTION:The International Business Center is a sponsor of the Lansing Regional Chamber of Commerce\, Economic Club series. This meeting will be held virtually andis a Local Government Panel of statewide municipal leaders focusing on the changing landscape of local government and how they are responding and battling the COVID-19 pandemic. The panelists are: Summer Minnick\, Deputy Executive Director & CMO\, Michigan Municipal League; Stephan Currie\, Executive Director\, Michigan Association of Counties; Neil Sheridan\, Executive Director\, Michigan Townships Association; Dr. Eric Scorsone\, Associate Professor & Director\, Center for Local Government Finance and Policy\, MSU.
URL:https://ibc.broad.msu.edu/event/lansing-regional-chamber-economic-club-local-government-panel-september-10-2020/
LOCATION:virtual
CATEGORIES:IBC
END:VEVENT
BEGIN:VEVENT
DTSTART;TZID=America/Detroit:20200910T000000
DTEND;TZID=America/Detroit:20200910T000000
DTSTAMP:20260422T231523
CREATED:20240319T195647Z
LAST-MODIFIED:20240517T235841Z
UID:10000568-1599696000-1599696000@ibc.broad.msu.edu
SUMMARY:Future Research Directions in International Marketing presented by GSU
DESCRIPTION:This is an IBC co-sponsored event with GSU-CIBER. In this virtual webinar\, you will hear the perspectives of Professor Kelly Hewett\, the current Editor-in-Chief of the Journal of International Marketing\, and Professor S. Tamer Cavusgil\, the Founding Editor-in-Chief\, on future research in international marketing. This is a FREE webinar\, but registration is required.
URL:https://ibc.broad.msu.edu/event/future-research-directions-in-international-marketing-presented-by-gsu/
LOCATION:virtual
CATEGORIES:IBC
END:VEVENT
END:VCALENDAR