BEGIN:VCALENDAR
VERSION:2.0
PRODID:-//International Business Center - ECPv6.15.17.1//NONSGML v1.0//EN
CALSCALE:GREGORIAN
METHOD:PUBLISH
X-WR-CALNAME:International Business Center
X-ORIGINAL-URL:https://ibc.broad.msu.edu
X-WR-CALDESC:Events for International Business Center
REFRESH-INTERVAL;VALUE=DURATION:PT1H
X-Robots-Tag:noindex
X-PUBLISHED-TTL:PT1H
BEGIN:VTIMEZONE
TZID:America/Detroit
BEGIN:DAYLIGHT
TZOFFSETFROM:-0500
TZOFFSETTO:-0400
TZNAME:EDT
DTSTART:20190310T070000
END:DAYLIGHT
BEGIN:STANDARD
TZOFFSETFROM:-0400
TZOFFSETTO:-0500
TZNAME:EST
DTSTART:20191103T060000
END:STANDARD
BEGIN:DAYLIGHT
TZOFFSETFROM:-0500
TZOFFSETTO:-0400
TZNAME:EDT
DTSTART:20200308T070000
END:DAYLIGHT
BEGIN:STANDARD
TZOFFSETFROM:-0400
TZOFFSETTO:-0500
TZNAME:EST
DTSTART:20201101T060000
END:STANDARD
BEGIN:DAYLIGHT
TZOFFSETFROM:-0500
TZOFFSETTO:-0400
TZNAME:EDT
DTSTART:20210314T070000
END:DAYLIGHT
BEGIN:STANDARD
TZOFFSETFROM:-0400
TZOFFSETTO:-0500
TZNAME:EST
DTSTART:20211107T060000
END:STANDARD
END:VTIMEZONE
BEGIN:VEVENT
DTSTART;TZID=America/Detroit:20200916T000000
DTEND;TZID=America/Detroit:20200916T000000
DTSTAMP:20260426T001126
CREATED:20240319T195647Z
LAST-MODIFIED:20240517T235824Z
UID:10000567-1600214400-1600214400@ibc.broad.msu.edu
SUMMARY:Michigan Business Network - Speaker Series (Virtual)\, Sandy Baruah\, Detroit Chamber of Commerce
DESCRIPTION:The International Business Center is a proud sponsor of the Michigan Business Network (MBN). The MBN is excited to announce that our Speaker Series continues virtual on Wednesday\, September 16th with speaker Sandy K. Baruah! Sandy is president and CEO of the Detroit Regional Chamber\, the third largest chamber of commerce in the nation. The Chamber represents the business interests of a region comprising 5.4 million residents and 11 Fortune 500 companies.
URL:https://ibc.broad.msu.edu/event/michigan-business-network-speaker-series-virtual-sandy-baruah-detroit-chamber-of-commerce/
LOCATION:virtual
CATEGORIES:IBC
END:VEVENT
END:VCALENDAR