BEGIN:VCALENDAR
VERSION:2.0
PRODID:-//International Business Center - ECPv6.15.17.1//NONSGML v1.0//EN
CALSCALE:GREGORIAN
METHOD:PUBLISH
X-WR-CALNAME:International Business Center
X-ORIGINAL-URL:https://ibc.broad.msu.edu
X-WR-CALDESC:Events for International Business Center
REFRESH-INTERVAL;VALUE=DURATION:PT1H
X-Robots-Tag:noindex
X-PUBLISHED-TTL:PT1H
BEGIN:VTIMEZONE
TZID:America/Detroit
BEGIN:DAYLIGHT
TZOFFSETFROM:-0500
TZOFFSETTO:-0400
TZNAME:EDT
DTSTART:20190310T070000
END:DAYLIGHT
BEGIN:STANDARD
TZOFFSETFROM:-0400
TZOFFSETTO:-0500
TZNAME:EST
DTSTART:20191103T060000
END:STANDARD
BEGIN:DAYLIGHT
TZOFFSETFROM:-0500
TZOFFSETTO:-0400
TZNAME:EDT
DTSTART:20200308T070000
END:DAYLIGHT
BEGIN:STANDARD
TZOFFSETFROM:-0400
TZOFFSETTO:-0500
TZNAME:EST
DTSTART:20201101T060000
END:STANDARD
BEGIN:DAYLIGHT
TZOFFSETFROM:-0500
TZOFFSETTO:-0400
TZNAME:EDT
DTSTART:20210314T070000
END:DAYLIGHT
BEGIN:STANDARD
TZOFFSETFROM:-0400
TZOFFSETTO:-0500
TZNAME:EST
DTSTART:20211107T060000
END:STANDARD
END:VTIMEZONE
BEGIN:VEVENT
DTSTART;TZID=America/Detroit:20200923T000000
DTEND;TZID=America/Detroit:20200923T000000
DTSTAMP:20260422T231521
CREATED:20240319T195658Z
LAST-MODIFIED:20240517T235807Z
UID:10000566-1600819200-1600819200@ibc.broad.msu.edu
SUMMARY:Global Business Club & Lansing Chamber: US-China Political & Business Relationship
DESCRIPTION:The Global Business Club\, along with the Lansing Chamber of Commerce\, created a video to discuss the US-China Political and Business Relationship. The video can be viewed via Youtube in the link.
URL:https://ibc.broad.msu.edu/event/global-business-club-lansing-chamber-us-china-political-business-relationship/
LOCATION:virtual
CATEGORIES:IBC
END:VEVENT
BEGIN:VEVENT
DTSTART;TZID=America/Detroit:20200924T000000
DTEND;TZID=America/Detroit:20200924T000000
DTSTAMP:20260422T231521
CREATED:20240319T195656Z
LAST-MODIFIED:20240517T235749Z
UID:10000565-1600905600-1600905600@ibc.broad.msu.edu
SUMMARY:Lansing Regional Chamber - Economic Club\, University Research Corridor Presidents\, September 24\, 2020
DESCRIPTION:Hear from University Research Corridor Presidents on each of the three universities’ responses and research to COVID-19. \nDr. Mark Schlissel\, President University of Michigan;Dr. M. Roy Wilson\, President Wayne State University;Samuel L. Stanley\, Jr.\, M.D.\, President Michigan State University
URL:https://ibc.broad.msu.edu/event/lansing-regional-chamber-economic-club-university-research-corridor-presidents-september-24-2020/
LOCATION:virtual
CATEGORIES:IBC
END:VEVENT
END:VCALENDAR