BEGIN:VCALENDAR
VERSION:2.0
PRODID:-//International Business Center - ECPv6.15.17.1//NONSGML v1.0//EN
CALSCALE:GREGORIAN
METHOD:PUBLISH
X-WR-CALNAME:International Business Center
X-ORIGINAL-URL:https://ibc.broad.msu.edu
X-WR-CALDESC:Events for International Business Center
REFRESH-INTERVAL;VALUE=DURATION:PT1H
X-Robots-Tag:noindex
X-PUBLISHED-TTL:PT1H
BEGIN:VTIMEZONE
TZID:America/Detroit
BEGIN:DAYLIGHT
TZOFFSETFROM:-0500
TZOFFSETTO:-0400
TZNAME:EDT
DTSTART:20200308T070000
END:DAYLIGHT
BEGIN:STANDARD
TZOFFSETFROM:-0400
TZOFFSETTO:-0500
TZNAME:EST
DTSTART:20201101T060000
END:STANDARD
BEGIN:DAYLIGHT
TZOFFSETFROM:-0500
TZOFFSETTO:-0400
TZNAME:EDT
DTSTART:20210314T070000
END:DAYLIGHT
BEGIN:STANDARD
TZOFFSETFROM:-0400
TZOFFSETTO:-0500
TZNAME:EST
DTSTART:20211107T060000
END:STANDARD
BEGIN:DAYLIGHT
TZOFFSETFROM:-0500
TZOFFSETTO:-0400
TZNAME:EDT
DTSTART:20220313T070000
END:DAYLIGHT
BEGIN:STANDARD
TZOFFSETFROM:-0400
TZOFFSETTO:-0500
TZNAME:EST
DTSTART:20221106T060000
END:STANDARD
END:VTIMEZONE
BEGIN:VEVENT
DTSTART;TZID=America/Detroit:20210128T000000
DTEND;TZID=America/Detroit:20210128T000000
DTSTAMP:20260424T023613
CREATED:20240319T195722Z
LAST-MODIFIED:20240517T224955Z
UID:10000548-1611792000-1611792000@ibc.broad.msu.edu
SUMMARY:Lansing Regional Chamber - Economic Club\, Edward Montgomery\, President\, WMU\, January 28\, 2021
DESCRIPTION:The upcoming Lansing Economic Club will be held on Jan. 28 from 11 a.m. to noon and feature virtual face-to-face networking before and after the program. The Lansing Economic Club will welcome Dr. Edward Montgomery\, president of Western Michigan University. Dr. Montgomerys keynote address\, Rethinking the Workforce: Higher Education Must Prepare Change-Ready Professionals\, will provide an economic outlook for the new year. He will also discuss the changing nature of work and the kinds of skills needed as businesses forge ahead into the next decade.
URL:https://ibc.broad.msu.edu/event/lansing-regional-chamber-economic-club-edward-montgomery-president-wmu-january-28-2021/
LOCATION:virtual
CATEGORIES:IBC
END:VEVENT
END:VCALENDAR