BEGIN:VCALENDAR
VERSION:2.0
PRODID:-//International Business Center - ECPv6.15.17.1//NONSGML v1.0//EN
CALSCALE:GREGORIAN
METHOD:PUBLISH
X-WR-CALNAME:International Business Center
X-ORIGINAL-URL:https://ibc.broad.msu.edu
X-WR-CALDESC:Events for International Business Center
REFRESH-INTERVAL;VALUE=DURATION:PT1H
X-Robots-Tag:noindex
X-PUBLISHED-TTL:PT1H
BEGIN:VTIMEZONE
TZID:America/Detroit
BEGIN:DAYLIGHT
TZOFFSETFROM:-0500
TZOFFSETTO:-0400
TZNAME:EDT
DTSTART:20200308T070000
END:DAYLIGHT
BEGIN:STANDARD
TZOFFSETFROM:-0400
TZOFFSETTO:-0500
TZNAME:EST
DTSTART:20201101T060000
END:STANDARD
BEGIN:DAYLIGHT
TZOFFSETFROM:-0500
TZOFFSETTO:-0400
TZNAME:EDT
DTSTART:20210314T070000
END:DAYLIGHT
BEGIN:STANDARD
TZOFFSETFROM:-0400
TZOFFSETTO:-0500
TZNAME:EST
DTSTART:20211107T060000
END:STANDARD
BEGIN:DAYLIGHT
TZOFFSETFROM:-0500
TZOFFSETTO:-0400
TZNAME:EDT
DTSTART:20220313T070000
END:DAYLIGHT
BEGIN:STANDARD
TZOFFSETFROM:-0400
TZOFFSETTO:-0500
TZNAME:EST
DTSTART:20221106T060000
END:STANDARD
END:VTIMEZONE
BEGIN:VEVENT
DTSTART;TZID=America/Detroit:20210302T000000
DTEND;TZID=America/Detroit:20210302T000000
DTSTAMP:20260422T040755
CREATED:20240319T195725Z
LAST-MODIFIED:20240517T224653Z
UID:10000540-1614643200-1614643200@ibc.broad.msu.edu
SUMMARY:Lansing Regional Chamber - Economic Club\, Loretta J. Ross\, "Calling in the Calling Out Culture"
DESCRIPTION:Partnering with the Dr. Martin Luther King Jr Commission of Mid-Michigan to feature Professor Loretta Ross\, Institute for Democratic Education and Culture. Professor Ross appears regularly in major media outlets about the issues of our day.She was recently featured in aNew York Timespiece\, What if Instead of Calling People Out\, We Called Them In? which will be the focus of the conversation. The program begins at 11 a.m. Virtual networking will occur before the program from 10:40 to 11 a.m. and after the program from noon to 12:15 p.m.
URL:https://ibc.broad.msu.edu/event/lansing-regional-chamber-economic-club-loretta-j-ross-calling-in-the-calling-out-culture/
LOCATION:virtual
CATEGORIES:IBC
END:VEVENT
END:VCALENDAR