BEGIN:VCALENDAR
VERSION:2.0
PRODID:-//International Business Center - ECPv6.15.17.1//NONSGML v1.0//EN
CALSCALE:GREGORIAN
METHOD:PUBLISH
X-WR-CALNAME:International Business Center
X-ORIGINAL-URL:https://ibc.broad.msu.edu
X-WR-CALDESC:Events for International Business Center
REFRESH-INTERVAL;VALUE=DURATION:PT1H
X-Robots-Tag:noindex
X-PUBLISHED-TTL:PT1H
BEGIN:VTIMEZONE
TZID:America/Detroit
BEGIN:DAYLIGHT
TZOFFSETFROM:-0500
TZOFFSETTO:-0400
TZNAME:EDT
DTSTART:20200308T070000
END:DAYLIGHT
BEGIN:STANDARD
TZOFFSETFROM:-0400
TZOFFSETTO:-0500
TZNAME:EST
DTSTART:20201101T060000
END:STANDARD
BEGIN:DAYLIGHT
TZOFFSETFROM:-0500
TZOFFSETTO:-0400
TZNAME:EDT
DTSTART:20210314T070000
END:DAYLIGHT
BEGIN:STANDARD
TZOFFSETFROM:-0400
TZOFFSETTO:-0500
TZNAME:EST
DTSTART:20211107T060000
END:STANDARD
BEGIN:DAYLIGHT
TZOFFSETFROM:-0500
TZOFFSETTO:-0400
TZNAME:EDT
DTSTART:20220313T070000
END:DAYLIGHT
BEGIN:STANDARD
TZOFFSETFROM:-0400
TZOFFSETTO:-0500
TZNAME:EST
DTSTART:20221106T060000
END:STANDARD
END:VTIMEZONE
BEGIN:VEVENT
DTSTART;TZID=America/Detroit:20210324T000000
DTEND;TZID=America/Detroit:20210324T000000
DTSTAMP:20260425T174204
CREATED:20240319T195731Z
LAST-MODIFIED:20240517T224526Z
UID:10000536-1616544000-1616544000@ibc.broad.msu.edu
SUMMARY:Michigan Business Network - Speaker Series (Virtual)\, Dr. Robert McMahan\, President\, Kettering University
DESCRIPTION:Dr. Robert K. McMahan is set to present at the upcoming MBN Speaker Series on Wednesday\, March 24th! Dr. McMahan is President of Kettering University\, one of the nations premier engineering\, science\, business universities\, and is a national leader in preparing STEM and business entrepreneurs and innovators. Dr. McMahan has extensive national and international speaking\, consulting\, and management experience in organizations and initiatives related to technology and product development\, research policy\, investment capital\, entrepreneurship and innovation-based economic development. \nRegister in advance.
URL:https://ibc.broad.msu.edu/event/michigan-business-network-speaker-series-virtual-dr-robert-mcmahan-president-kettering-university/
LOCATION:virtual
CATEGORIES:IBC
END:VEVENT
BEGIN:VEVENT
DTSTART;TZID=America/Detroit:20210325T000000
DTEND;TZID=America/Detroit:20210325T000000
DTSTAMP:20260425T174204
CREATED:20240319T195730Z
LAST-MODIFIED:20240517T224224Z
UID:10000535-1616630400-1616630400@ibc.broad.msu.edu
SUMMARY:MSI CIBER Consortium - Theorizing from Case Studies: How Far Have We Come? And Where to From Here?
DESCRIPTION:Are you using case studies in your own research\, supervising case-based research or interested in doing a case study in the future? \nIf so\, join our webinar presented by the authors of the 2021 JIBS Decade Award winning article Theorizing from case studies: Towards a pluralist future for international business research.The authors will discuss the key arguments from their 2011 paper\, in particular the different forms that theorizing from case studies can take. They will adopt a critical stance towards inductive theory building and recommend contextualized explanation as a promising alternative to doing case studies. They will also cover developments in case research since the publication of their 2011 paper\, not just in international business but in management and the social sciences more generally. They will share with the audience what they see as the most exciting opportunities for case research in the future. Participants in the webinar will gain a state-of-the-art understanding of case study methodology and an appreciation of the various options for achieving contextualized explanation in their studies. \nThis is a free webinar\, but registration is required.
URL:https://ibc.broad.msu.edu/event/msi-ciber-consortium-theorizing-from-case-studies-how-far-have-we-come-and-where-to-from-here/
LOCATION:virtual
CATEGORIES:IBC
END:VEVENT
END:VCALENDAR