BEGIN:VCALENDAR
VERSION:2.0
PRODID:-//International Business Center - ECPv6.15.17.1//NONSGML v1.0//EN
CALSCALE:GREGORIAN
METHOD:PUBLISH
X-WR-CALNAME:International Business Center
X-ORIGINAL-URL:https://ibc.broad.msu.edu
X-WR-CALDESC:Events for International Business Center
REFRESH-INTERVAL;VALUE=DURATION:PT1H
X-Robots-Tag:noindex
X-PUBLISHED-TTL:PT1H
BEGIN:VTIMEZONE
TZID:America/Detroit
BEGIN:DAYLIGHT
TZOFFSETFROM:-0500
TZOFFSETTO:-0400
TZNAME:EDT
DTSTART:20200308T070000
END:DAYLIGHT
BEGIN:STANDARD
TZOFFSETFROM:-0400
TZOFFSETTO:-0500
TZNAME:EST
DTSTART:20201101T060000
END:STANDARD
BEGIN:DAYLIGHT
TZOFFSETFROM:-0500
TZOFFSETTO:-0400
TZNAME:EDT
DTSTART:20210314T070000
END:DAYLIGHT
BEGIN:STANDARD
TZOFFSETFROM:-0400
TZOFFSETTO:-0500
TZNAME:EST
DTSTART:20211107T060000
END:STANDARD
BEGIN:DAYLIGHT
TZOFFSETFROM:-0500
TZOFFSETTO:-0400
TZNAME:EDT
DTSTART:20220313T070000
END:DAYLIGHT
BEGIN:STANDARD
TZOFFSETFROM:-0400
TZOFFSETTO:-0500
TZNAME:EST
DTSTART:20221106T060000
END:STANDARD
END:VTIMEZONE
BEGIN:VEVENT
DTSTART;TZID=America/Detroit:20210401T000000
DTEND;TZID=America/Detroit:20210401T000000
DTSTAMP:20260423T071025
CREATED:20240319T195737Z
LAST-MODIFIED:20240517T224136Z
UID:10000534-1617235200-1617235200@ibc.broad.msu.edu
SUMMARY:MSI CIBER Consortium - Sports Diplomacy as a Key Tool in U.S. Foreign Policy
DESCRIPTION:While the United States leveraged the power of sports even before the ping pong diplomacy era\, Sports Diplomacy Division at the U.S. Department of State was established in the wake of 9/11 as a means of reaching out to youth in the Middle East through soccer. Its scope has expanded to include all regions\, thousands of participants\, and the full spectrum of sports. The divisions people-to-people sports exchanges open doors in hard-to-reach places and engage communities at the grassroots level. For additional details\, visit the link below. \nThis is a free webinar\, but registration is required. \nTime of webinar in EDT.
URL:https://ibc.broad.msu.edu/event/msi-ciber-consortium-sports-diplomacy-as-a-key-tool-in-u-s-foreign-policy/
LOCATION:virtual
CATEGORIES:IBC
END:VEVENT
END:VCALENDAR