BEGIN:VCALENDAR
VERSION:2.0
PRODID:-//International Business Center - ECPv6.15.17.1//NONSGML v1.0//EN
CALSCALE:GREGORIAN
METHOD:PUBLISH
X-WR-CALNAME:International Business Center
X-ORIGINAL-URL:https://ibc.broad.msu.edu
X-WR-CALDESC:Events for International Business Center
REFRESH-INTERVAL;VALUE=DURATION:PT1H
X-Robots-Tag:noindex
X-PUBLISHED-TTL:PT1H
BEGIN:VTIMEZONE
TZID:America/Detroit
BEGIN:DAYLIGHT
TZOFFSETFROM:-0500
TZOFFSETTO:-0400
TZNAME:EDT
DTSTART:20200308T070000
END:DAYLIGHT
BEGIN:STANDARD
TZOFFSETFROM:-0400
TZOFFSETTO:-0500
TZNAME:EST
DTSTART:20201101T060000
END:STANDARD
BEGIN:DAYLIGHT
TZOFFSETFROM:-0500
TZOFFSETTO:-0400
TZNAME:EDT
DTSTART:20210314T070000
END:DAYLIGHT
BEGIN:STANDARD
TZOFFSETFROM:-0400
TZOFFSETTO:-0500
TZNAME:EST
DTSTART:20211107T060000
END:STANDARD
BEGIN:DAYLIGHT
TZOFFSETFROM:-0500
TZOFFSETTO:-0400
TZNAME:EDT
DTSTART:20220313T070000
END:DAYLIGHT
BEGIN:STANDARD
TZOFFSETFROM:-0400
TZOFFSETTO:-0500
TZNAME:EST
DTSTART:20221106T060000
END:STANDARD
END:VTIMEZONE
BEGIN:VEVENT
DTSTART;TZID=America/Detroit:20210413T000000
DTEND;TZID=America/Detroit:20210413T000000
DTSTAMP:20260422T154521
CREATED:20240319T195738Z
LAST-MODIFIED:20240517T224040Z
UID:10000532-1618272000-1618272000@ibc.broad.msu.edu
SUMMARY:Lansing Regional Chamber - Economic Club\, Marijuana Industry Panel
DESCRIPTION:Learn more about the emerging marijuana industry\, including the new cannabis market in our region\, distribution and retail opportunities\, creating a new workforce\, transport\, and testing from a marijuana industry panel at the April Lansing Economic Club.  \nOur panel will include Ryan Basore\, CEO\, Redemption Cannabis\, Michael Pedrosi\, managing partner\, Capital Transport\, Ryan Ratzloff\, president\, Lion Labs\, Brian Gruber\, COO\, The Botanical Co.\, Franklin Fields\, Biobizz\, Kevin Pybus\, founder\, Truu Cannabis. The panel will be moderated by Lisa Ellen Smith\, president\, InVerve Marketing and Web.
URL:https://ibc.broad.msu.edu/event/lansing-regional-chamber-economic-club-marijuana-industry-panel/
LOCATION:virtual
CATEGORIES:IBC
END:VEVENT
END:VCALENDAR