BEGIN:VCALENDAR
VERSION:2.0
PRODID:-//International Business Center - ECPv6.15.17.1//NONSGML v1.0//EN
CALSCALE:GREGORIAN
METHOD:PUBLISH
X-WR-CALNAME:International Business Center
X-ORIGINAL-URL:https://ibc.broad.msu.edu
X-WR-CALDESC:Events for International Business Center
REFRESH-INTERVAL;VALUE=DURATION:PT1H
X-Robots-Tag:noindex
X-PUBLISHED-TTL:PT1H
BEGIN:VTIMEZONE
TZID:America/Detroit
BEGIN:DAYLIGHT
TZOFFSETFROM:-0500
TZOFFSETTO:-0400
TZNAME:EDT
DTSTART:20200308T070000
END:DAYLIGHT
BEGIN:STANDARD
TZOFFSETFROM:-0400
TZOFFSETTO:-0500
TZNAME:EST
DTSTART:20201101T060000
END:STANDARD
BEGIN:DAYLIGHT
TZOFFSETFROM:-0500
TZOFFSETTO:-0400
TZNAME:EDT
DTSTART:20210314T070000
END:DAYLIGHT
BEGIN:STANDARD
TZOFFSETFROM:-0400
TZOFFSETTO:-0500
TZNAME:EST
DTSTART:20211107T060000
END:STANDARD
BEGIN:DAYLIGHT
TZOFFSETFROM:-0500
TZOFFSETTO:-0400
TZNAME:EDT
DTSTART:20220313T070000
END:DAYLIGHT
BEGIN:STANDARD
TZOFFSETFROM:-0400
TZOFFSETTO:-0500
TZNAME:EST
DTSTART:20221106T060000
END:STANDARD
END:VTIMEZONE
BEGIN:VEVENT
DTSTART;TZID=America/Detroit:20210511T000000
DTEND;TZID=America/Detroit:20210511T000000
DTSTAMP:20260422T205415
CREATED:20240319T195738Z
LAST-MODIFIED:20240517T222818Z
UID:10000527-1620691200-1620691200@ibc.broad.msu.edu
SUMMARY:Publishing in International Business Research: Tips and Trends from Editors - Research Spotlight by MSU & Texas A&M CIBERS
DESCRIPTION:In this webinar\, editors of three prominent journals in the international business fieldwill discuss key trends\, topics and issues in IB research\, as well as the best practices for publishing in leading international business journals. This webinar will include short presentations followed by discussion moderated by the co-hosts. \nKey takeaways: \n	Tips related to best practices for publishing international research topics \n	Gain insights into common issues/problems raised in the review process \n	Learn topics of significant interest to editors \n	To register\, please click on the link below.
URL:https://ibc.broad.msu.edu/event/publishing-in-international-business-research-tips-and-trends-from-editors-research-spotlight-by-msu-texas-am-cibers/
LOCATION:virtual
CATEGORIES:IBC
END:VEVENT
BEGIN:VEVENT
DTSTART;TZID=America/Detroit:20210513T000000
DTEND;TZID=America/Detroit:20210513T000000
DTSTAMP:20260422T205415
CREATED:20240319T195743Z
LAST-MODIFIED:20240517T222801Z
UID:10000526-1620864000-1620864000@ibc.broad.msu.edu
SUMMARY:MSI Consortium - Global Case Teaching Materials and Resources to Engage and Inspire
DESCRIPTION:Please join usfor a webinar highlighting Emerald Publishings case developments and scholarly resources. Hear about best instruction practices and learning tools from The CASE Journal and Emerging Market Case Studies editors\, and learn more about Emeralds Cases Hub\, a free resource\, designed to help you use cases to teach with impact and provide guidance on how to publish your case research.
URL:https://ibc.broad.msu.edu/event/msi-consortium-global-case-teaching-materials-and-resources-to-engage-and-inspire/
LOCATION:virtual
CATEGORIES:IBC
END:VEVENT
END:VCALENDAR