BEGIN:VCALENDAR
VERSION:2.0
PRODID:-//International Business Center - ECPv6.15.17.1//NONSGML v1.0//EN
CALSCALE:GREGORIAN
METHOD:PUBLISH
X-WR-CALNAME:International Business Center
X-ORIGINAL-URL:https://ibc.broad.msu.edu
X-WR-CALDESC:Events for International Business Center
REFRESH-INTERVAL;VALUE=DURATION:PT1H
X-Robots-Tag:noindex
X-PUBLISHED-TTL:PT1H
BEGIN:VTIMEZONE
TZID:America/Detroit
BEGIN:DAYLIGHT
TZOFFSETFROM:-0500
TZOFFSETTO:-0400
TZNAME:EDT
DTSTART:20200308T070000
END:DAYLIGHT
BEGIN:STANDARD
TZOFFSETFROM:-0400
TZOFFSETTO:-0500
TZNAME:EST
DTSTART:20201101T060000
END:STANDARD
BEGIN:DAYLIGHT
TZOFFSETFROM:-0500
TZOFFSETTO:-0400
TZNAME:EDT
DTSTART:20210314T070000
END:DAYLIGHT
BEGIN:STANDARD
TZOFFSETFROM:-0400
TZOFFSETTO:-0500
TZNAME:EST
DTSTART:20211107T060000
END:STANDARD
BEGIN:DAYLIGHT
TZOFFSETFROM:-0500
TZOFFSETTO:-0400
TZNAME:EDT
DTSTART:20220313T070000
END:DAYLIGHT
BEGIN:STANDARD
TZOFFSETFROM:-0400
TZOFFSETTO:-0500
TZNAME:EST
DTSTART:20221106T060000
END:STANDARD
END:VTIMEZONE
BEGIN:VEVENT
DTSTART;TZID=America/Detroit:20210602T000000
DTEND;TZID=America/Detroit:20210602T000000
DTSTAMP:20260422T224308
CREATED:20240319T195747Z
LAST-MODIFIED:20240517T222726Z
UID:10000524-1622592000-1622592000@ibc.broad.msu.edu
SUMMARY:Global Business Club of Mid-Michigan: Turkey and Central Eurasia
DESCRIPTION:Speaker Turkey and Central Eurasia Speaker Panel \nThis panel on Turkey and Central Eurasia is the first in a series of inquiries sponsored by several MSU centers and programs into The Geopolitics and Economics of Central Eurasia and Its Neighbors. Future panels will look at China\, Russia\, Europe and other external actors to explore trans-regional relationships and interactions\, as Chinas Belt and Road Initiative plays out\, Russia seeks to regain dominant influence over former Soviet regions in its near abroad\, and Turkey seeks to unite the Turkic language speaking world in what some have termed Neo-Ottomanism \nThe Global Business Club of Mid-Michigan focuses on global issues of interest to the mid-Michigan business community. The monthly GB Club luncheons provide outstanding speakers and relaxed networking opportunities. With extensive international experience\, the speakers wrap personal insights around a practical and up-to-the-minute approach to conducting international trade.
URL:https://ibc.broad.msu.edu/event/global-business-club-of-mid-michigan-turkey-and-central-eurasia/
LOCATION:virtual
CATEGORIES:Global Business Club,IBC
END:VEVENT
END:VCALENDAR