BEGIN:VCALENDAR
VERSION:2.0
PRODID:-//International Business Center - ECPv6.15.17.1//NONSGML v1.0//EN
CALSCALE:GREGORIAN
METHOD:PUBLISH
X-WR-CALNAME:International Business Center
X-ORIGINAL-URL:https://ibc.broad.msu.edu
X-WR-CALDESC:Events for International Business Center
REFRESH-INTERVAL;VALUE=DURATION:PT1H
X-Robots-Tag:noindex
X-PUBLISHED-TTL:PT1H
BEGIN:VTIMEZONE
TZID:America/Detroit
BEGIN:DAYLIGHT
TZOFFSETFROM:-0500
TZOFFSETTO:-0400
TZNAME:EDT
DTSTART:20200308T070000
END:DAYLIGHT
BEGIN:STANDARD
TZOFFSETFROM:-0400
TZOFFSETTO:-0500
TZNAME:EST
DTSTART:20201101T060000
END:STANDARD
BEGIN:DAYLIGHT
TZOFFSETFROM:-0500
TZOFFSETTO:-0400
TZNAME:EDT
DTSTART:20210314T070000
END:DAYLIGHT
BEGIN:STANDARD
TZOFFSETFROM:-0400
TZOFFSETTO:-0500
TZNAME:EST
DTSTART:20211107T060000
END:STANDARD
BEGIN:DAYLIGHT
TZOFFSETFROM:-0500
TZOFFSETTO:-0400
TZNAME:EDT
DTSTART:20220313T070000
END:DAYLIGHT
BEGIN:STANDARD
TZOFFSETFROM:-0400
TZOFFSETTO:-0500
TZNAME:EST
DTSTART:20221106T060000
END:STANDARD
END:VTIMEZONE
BEGIN:VEVENT
DTSTART;TZID=America/Detroit:20210903T000000
DTEND;TZID=America/Detroit:20210903T000000
DTSTAMP:20260425T152015
CREATED:20240319T195756Z
LAST-MODIFIED:20240517T222550Z
UID:10000520-1630627200-1630627200@ibc.broad.msu.edu
SUMMARY:Department of Economics Seminar Series - The Effect of Advisors’ Incentives on Clients’ Investments
DESCRIPTION:Jordi Blanes i Vidal from LSE will present The Effect of Advisors Incentives on Clients Investments.Though it’s in the theory seminar given its IO/contracts nature\, the paper’s contents are highly and mostly empirical\, and finance and macro-flavored\, as you can tell from the abstract and attached paper. All faculty and students are welcome. \nDr Jordi Blanes i Vidal is Associate Professor of Managerial Economics and Strategy in the Department of Management at the London School of Economics and Political Science. Prior to this he was a Prize Research Fellow at Nuffield College\, Oxford University. During 2007 he was also a visiting scholar at the National Bureau of Economic Research (NBER). He received his PhD and Master’s\, both in economics\, from LSE and his BA in economics from the University of Valencia. His expertise includes organizational economics\, political economy\, leadership\, and human resource management. His papers have appeared in journals such as Review of Economic Studies\, RAND Journal of Economics\, Journal of Law and Economics\, and American Economic Review. \nIf you would like to meet Jordi\, please sign up here:: https://docs.google.com/spreadsheets/d/1pmWva8ijshoIWHWNmZMH6PofKHgS6YAoMR8eMJ2Xt3A/edit#gid=0 \nThe password for the virtual zoom event is: msutheory
URL:https://ibc.broad.msu.edu/event/department-of-economics-seminar-series-the-effect-of-advisors-incentives-on-clients-investments/
LOCATION:virtual
CATEGORIES:IBC
END:VEVENT
END:VCALENDAR