BEGIN:VCALENDAR
VERSION:2.0
PRODID:-//International Business Center - ECPv6.15.17.1//NONSGML v1.0//EN
CALSCALE:GREGORIAN
METHOD:PUBLISH
X-WR-CALNAME:International Business Center
X-ORIGINAL-URL:https://ibc.broad.msu.edu
X-WR-CALDESC:Events for International Business Center
REFRESH-INTERVAL;VALUE=DURATION:PT1H
X-Robots-Tag:noindex
X-PUBLISHED-TTL:PT1H
BEGIN:VTIMEZONE
TZID:America/Detroit
BEGIN:DAYLIGHT
TZOFFSETFROM:-0500
TZOFFSETTO:-0400
TZNAME:EDT
DTSTART:20200308T070000
END:DAYLIGHT
BEGIN:STANDARD
TZOFFSETFROM:-0400
TZOFFSETTO:-0500
TZNAME:EST
DTSTART:20201101T060000
END:STANDARD
BEGIN:DAYLIGHT
TZOFFSETFROM:-0500
TZOFFSETTO:-0400
TZNAME:EDT
DTSTART:20210314T070000
END:DAYLIGHT
BEGIN:STANDARD
TZOFFSETFROM:-0400
TZOFFSETTO:-0500
TZNAME:EST
DTSTART:20211107T060000
END:STANDARD
BEGIN:DAYLIGHT
TZOFFSETFROM:-0500
TZOFFSETTO:-0400
TZNAME:EDT
DTSTART:20220313T070000
END:DAYLIGHT
BEGIN:STANDARD
TZOFFSETFROM:-0400
TZOFFSETTO:-0500
TZNAME:EST
DTSTART:20221106T060000
END:STANDARD
END:VTIMEZONE
BEGIN:VEVENT
DTSTART;TZID=America/Detroit:20210916T000000
DTEND;TZID=America/Detroit:20211028T000000
DTSTAMP:20260422T022217
CREATED:20240319T195759Z
LAST-MODIFIED:20240517T222335Z
UID:10000516-1631750400-1635379200@ibc.broad.msu.edu
SUMMARY:MSI Consortium- 3 Part IB Webinar Series - Global Case Teaching Materials Workshop: How to Develop\, Write\, and Publish Compact Cases
DESCRIPTION:Join us for a three-part webinar on how to write a compact case in business. Compact cases are emerging as a new case format. They are typically under 1\,000 words. Hear from our expert\, Dr. Rebecca Morris\, on how to develop\, research\, prepare instructors materials\, and publish a compact case. \nThe first webinar will cover specifics and approaches on how to develop a compact case. Registrants will then have to opportunity to develop their own case and submit it for judging. During the second webinar we will award three compact case submissions U.S. $150 and discuss dos and donts as key learning objectives. The final webinar will cover how to prepare an instructors manual and submission for publication of your case. \nRegistration is FREE and open to all\, but required. Please click on the Website url to register.
URL:https://ibc.broad.msu.edu/event/msi-consortium-3-part-ib-webinar-series-global-case-teaching-materials-workshop-how-to-develop-write-and-publish-compact-cases/
LOCATION:virtual
CATEGORIES:IBC
END:VEVENT
BEGIN:VEVENT
DTSTART;TZID=America/Detroit:20211014T000000
DTEND;TZID=America/Detroit:20211014T000000
DTSTAMP:20260422T022217
CREATED:20240319T195757Z
LAST-MODIFIED:20240517T221014Z
UID:10000510-1634169600-1634169600@ibc.broad.msu.edu
SUMMARY:Globalization\, Islam\, and Marketing - Research Spotlight by MSU-CIBER and MSU-MSP
DESCRIPTION:The global Muslim market\, encompassing 1.8 billion consumers and with an estimated worth of 3.2 trillion dollars by 2024\, is of interest to many companies and scholars of business. This panel will discuss a diverse array of topics such as the halal industry\, Islamic branding\, and Islamic business strategy. The event will be moderated by Professor Ahmet H. Kirca \n(Director MSU-CIBER) and MohammadH. Khalil (MSU-MSP).
URL:https://ibc.broad.msu.edu/event/globalization-islam-and-marketing-research-spotlight-by-msu-ciber-and-msu-msp/
LOCATION:virtual
CATEGORIES:IBC
END:VEVENT
BEGIN:VEVENT
DTSTART;TZID=America/Detroit:20211015T000000
DTEND;TZID=America/Detroit:20211015T000000
DTSTAMP:20260422T022217
CREATED:20240319T195800Z
LAST-MODIFIED:20240517T220922Z
UID:10000509-1634256000-1634256000@ibc.broad.msu.edu
SUMMARY:Developing a Global Mindset at Community Colleges: How to Design Your International Business Course
DESCRIPTION:A half-day\, virtual workshop by the Michigan State University Center for International Business Education and Research (CIBER). \nAre you looking to offer more international coursework? This webinar will provide you with the knowledge\, experience\, and resources you need to internationalize general business courses at the two-year college level. The workshop is specifically targeted towards educators and will focus on all aspects of internationalizing business education. \nAgenda:  \n10:00 – 10:15 AM Welcome and Introductions \n10:15 – 11:30 AM Developing an IB Course: Strategies\, Topics\, Texts\, Formats \n11:30 – 11:40 AM Break \n11:40 – 12:30 AM Resources of Content for Your International Business Course
URL:https://ibc.broad.msu.edu/event/developing-a-global-mindset-at-community-colleges-how-to-design-your-international-business-course/
LOCATION:virtual
CATEGORIES:IBC
END:VEVENT
END:VCALENDAR