BEGIN:VCALENDAR
VERSION:2.0
PRODID:-//International Business Center - ECPv6.15.17.1//NONSGML v1.0//EN
CALSCALE:GREGORIAN
METHOD:PUBLISH
X-WR-CALNAME:International Business Center
X-ORIGINAL-URL:https://ibc.broad.msu.edu
X-WR-CALDESC:Events for International Business Center
REFRESH-INTERVAL;VALUE=DURATION:PT1H
X-Robots-Tag:noindex
X-PUBLISHED-TTL:PT1H
BEGIN:VTIMEZONE
TZID:America/Detroit
BEGIN:DAYLIGHT
TZOFFSETFROM:-0500
TZOFFSETTO:-0400
TZNAME:EDT
DTSTART:20200308T070000
END:DAYLIGHT
BEGIN:STANDARD
TZOFFSETFROM:-0400
TZOFFSETTO:-0500
TZNAME:EST
DTSTART:20201101T060000
END:STANDARD
BEGIN:DAYLIGHT
TZOFFSETFROM:-0500
TZOFFSETTO:-0400
TZNAME:EDT
DTSTART:20210314T070000
END:DAYLIGHT
BEGIN:STANDARD
TZOFFSETFROM:-0400
TZOFFSETTO:-0500
TZNAME:EST
DTSTART:20211107T060000
END:STANDARD
BEGIN:DAYLIGHT
TZOFFSETFROM:-0500
TZOFFSETTO:-0400
TZNAME:EDT
DTSTART:20220313T070000
END:DAYLIGHT
BEGIN:STANDARD
TZOFFSETFROM:-0400
TZOFFSETTO:-0500
TZNAME:EST
DTSTART:20221106T060000
END:STANDARD
END:VTIMEZONE
BEGIN:VEVENT
DTSTART;TZID=America/Detroit:20211117T000000
DTEND;TZID=America/Detroit:20211117T000000
DTSTAMP:20260422T200129
CREATED:20240319T195812Z
LAST-MODIFIED:20240517T213411Z
UID:10000503-1637107200-1637107200@ibc.broad.msu.edu
SUMMARY:Back to Business: Aerospace and Defense Roundtable
DESCRIPTION:Macomb County Department of Planning and Economic Development (MCPED) and the Michigan Economic Development Corporation (MEDC) invites you to join us for our November Back to Business event focused on the Defense and Aerospace Industry. This virtual roundtable will take place on November 17th from 9-10:30 a.m viaZoom. \nThe roundtable discussion will feature an overview of the Defense and Aerospace industries\, as well as the STEP program and international trade. It will feature special guest speakers from the Michigan Defense Center\, MEDC and Michigan State University International Business Center. We will highlight programs and services offered by MEDC and MCPED. Additionally\, we may cover some situational topics such as company successes and challenges\, new trade markets and more.
URL:https://ibc.broad.msu.edu/event/back-to-business-aerospace-and-defense-roundtable/
LOCATION:virtual
CATEGORIES:IBC
END:VEVENT
BEGIN:VEVENT
DTSTART;TZID=America/Detroit:20211117T000000
DTEND;TZID=America/Detroit:20211117T000000
DTSTAMP:20260422T200129
CREATED:20240319T195816Z
LAST-MODIFIED:20240517T213226Z
UID:10000502-1637107200-1637107200@ibc.broad.msu.edu
SUMMARY:MEDC Aerospace and Defense Roundtable
DESCRIPTION:Defense and aerospace companies are invited to a roundtable event to discuss industry-wide export challenges and opportunities to better inform our team of how we may adjust our program offerings. Companies interested in participating should contact their international trade manager by Nov. 10.
URL:https://ibc.broad.msu.edu/event/medc-aerospace-and-defense-roundtable/
CATEGORIES:IBC
END:VEVENT
BEGIN:VEVENT
DTSTART;TZID=America/Detroit:20211118T000000
DTEND;TZID=America/Detroit:20211118T000000
DTSTAMP:20260422T200129
CREATED:20240319T195811Z
LAST-MODIFIED:20240517T213138Z
UID:10000501-1637193600-1637193600@ibc.broad.msu.edu
SUMMARY:MSI - Consortium - The Economic & Business Environments in Africa: Current Realities & Challenges
DESCRIPTION:This webinar is FREE and open to all\, but registration is required. Zoom details will be sent to all registered participants. \nAfrica\, as a whole\, is experiencing significant political\, economic and sociocultural changes that will determine\, for the short and possibly the long terms\, whether it is ‘Africa rising’ or ‘Africa stagnating’. While we recognize the significant differences between Africa’s regions and the unique context of each of its leading economies\, there are common challenges that call for a unified and coordinated approach. \nIn this webinar\, Georgia State University professor Mourad Dakhli\, and University of Pretoria professor Carolyn Chisadza invite you to join in on a conversation exploring the current realities and future prospects of Africa’s economic and business context. Some of the topics that we will debater include institutional development across the continent\, the changing landscape of doing business in major African economies\, the effects of the COVID-19 pandemic on business\, and the Pan-African Free Trade Area (AfCFTA) and its expected consequences.
URL:https://ibc.broad.msu.edu/event/msi-consortium-the-economic-business-environments-in-africa-current-realities-challenges/
LOCATION:virtual
CATEGORIES:IBC
END:VEVENT
END:VCALENDAR