BEGIN:VCALENDAR
VERSION:2.0
PRODID:-//International Business Center - ECPv6.15.17.1//NONSGML v1.0//EN
CALSCALE:GREGORIAN
METHOD:PUBLISH
X-WR-CALNAME:International Business Center
X-ORIGINAL-URL:https://ibc.broad.msu.edu
X-WR-CALDESC:Events for International Business Center
REFRESH-INTERVAL;VALUE=DURATION:PT1H
X-Robots-Tag:noindex
X-PUBLISHED-TTL:PT1H
BEGIN:VTIMEZONE
TZID:America/Detroit
BEGIN:DAYLIGHT
TZOFFSETFROM:-0500
TZOFFSETTO:-0400
TZNAME:EDT
DTSTART:20210314T070000
END:DAYLIGHT
BEGIN:STANDARD
TZOFFSETFROM:-0400
TZOFFSETTO:-0500
TZNAME:EST
DTSTART:20211107T060000
END:STANDARD
BEGIN:DAYLIGHT
TZOFFSETFROM:-0500
TZOFFSETTO:-0400
TZNAME:EDT
DTSTART:20220313T070000
END:DAYLIGHT
BEGIN:STANDARD
TZOFFSETFROM:-0400
TZOFFSETTO:-0500
TZNAME:EST
DTSTART:20221106T060000
END:STANDARD
BEGIN:DAYLIGHT
TZOFFSETFROM:-0500
TZOFFSETTO:-0400
TZNAME:EDT
DTSTART:20230312T070000
END:DAYLIGHT
BEGIN:STANDARD
TZOFFSETFROM:-0400
TZOFFSETTO:-0500
TZNAME:EST
DTSTART:20231105T060000
END:STANDARD
END:VTIMEZONE
BEGIN:VEVENT
DTSTART;TZID=America/Detroit:20221201T000000
DTEND;TZID=America/Detroit:20221201T000000
DTSTAMP:20260422T012155
CREATED:20240319T195901Z
LAST-MODIFIED:20240517T204104Z
UID:10000450-1669852800-1669852800@ibc.broad.msu.edu
SUMMARY:MSI Consortium - “Seeds of Growth: How AGCO Built a Global Tractor Powerhouse from Atlanta”
DESCRIPTION:When Martin Richenhagen joined AGCO Corp. in 2004\, it was already a $3 billion publicly traded firm. But sixteen years later\, when he retired from his posts as chairman and CEO\, it was a Fortune 500 powerhouse combining some of the biggest brands in the business of agricultural equipment. With $10 billion in sales\, it doubled in size during his tenure to more than 20\,000 employees around the globe. \nThis extraordinary growth story\, rooted in metro Atlanta\, is linked with Mr. Richenhagens vision to expand aggressively via acquisitions while peering constantly around the corner to see future trends in food and farming. \nKey Takeaways: \n-How multinational corporations should navigate a strategy of growth through acquisitions versus organic sales \n-Lessons on hiring\, training and deploying executives in various emerging and developed markets and across functions\, from management to marketing to manufacturing \n-How leaders can use embrace cultural differences as an advantage rather than a hindrance
URL:https://ibc.broad.msu.edu/event/msi-consortium-seeds-of-growth-how-agco-built-a-global-tractor-powerhouse-from-atlanta/
LOCATION:virtual
CATEGORIES:IBC
END:VEVENT
END:VCALENDAR