BEGIN:VCALENDAR
VERSION:2.0
PRODID:-//International Business Center - ECPv6.15.17.1//NONSGML v1.0//EN
CALSCALE:GREGORIAN
METHOD:PUBLISH
X-WR-CALNAME:International Business Center
X-ORIGINAL-URL:https://ibc.broad.msu.edu
X-WR-CALDESC:Events for International Business Center
REFRESH-INTERVAL;VALUE=DURATION:PT1H
X-Robots-Tag:noindex
X-PUBLISHED-TTL:PT1H
BEGIN:VTIMEZONE
TZID:America/Detroit
BEGIN:DAYLIGHT
TZOFFSETFROM:-0500
TZOFFSETTO:-0400
TZNAME:EDT
DTSTART:20220313T070000
END:DAYLIGHT
BEGIN:STANDARD
TZOFFSETFROM:-0400
TZOFFSETTO:-0500
TZNAME:EST
DTSTART:20221106T060000
END:STANDARD
BEGIN:DAYLIGHT
TZOFFSETFROM:-0500
TZOFFSETTO:-0400
TZNAME:EDT
DTSTART:20230312T070000
END:DAYLIGHT
BEGIN:STANDARD
TZOFFSETFROM:-0400
TZOFFSETTO:-0500
TZNAME:EST
DTSTART:20231105T060000
END:STANDARD
BEGIN:DAYLIGHT
TZOFFSETFROM:-0500
TZOFFSETTO:-0400
TZNAME:EDT
DTSTART:20240310T070000
END:DAYLIGHT
BEGIN:STANDARD
TZOFFSETFROM:-0400
TZOFFSETTO:-0500
TZNAME:EST
DTSTART:20241103T060000
END:STANDARD
END:VTIMEZONE
BEGIN:VEVENT
DTSTART;TZID=America/Detroit:20230324T000000
DTEND;TZID=America/Detroit:20230324T000000
DTSTAMP:20260425T143844
CREATED:20240319T195909Z
LAST-MODIFIED:20240517T202521Z
UID:10000441-1679616000-1679616000@ibc.broad.msu.edu
SUMMARY:Global Business Club of Mid-Michigan: Global Supply Chain Management: The Need for Diversity\, Equity and Inclusion
DESCRIPTION:Speaker Panel discission\, see description for detailsAs part of the Global Business Club series\, the IBC/MSU-CIBER is partnering with the U.S. Commercial Service to hold a panel on the need for DEI in global supply chain management.  This event will be moderated by Assistant Professor of Supply Chain at MSU\, Simone Peinkofer\, and panelists will include: Kaori Koide – Senior Consultant specializing in supply chain at Deloitte in Tokyo\, Matt Anderson – Associate Dean of Diversity\, Equity and Inclusion at MSU Broad College of Business\, Vandana Bahl – Vice President of Trade Management at Supply Chain Solutions\, Bill Grice – VP and Executive Director for the Michigan Minority Supplier Development Council and Michigan MBDA Center\, and Bob Lundquist – Procurement Manager with Global Procurement at Steelcase.  Following the panel will be refreshments and time for networking.  This in-person event will also be available for viewing online\, please specify type of attendance during registration. \nTo watch: https://youtu.be/t_D0HnEDAecThe Global Business Club of Mid-Michigan focuses on global issues of interest to the mid-Michigan business community. The monthly GB Club luncheons provide outstanding speakers and relaxed networking opportunities. With extensive international experience\, the speakers wrap personal insights around a practical and up-to-the-minute approach to conducting international trade.
URL:https://ibc.broad.msu.edu/event/global-business-club-of-mid-michigan-global-supply-chain-management-the-need-for-diversity-equity-and-inclusion/
LOCATION:Minskoff Pavilion\, 645 N Shaw Ln\, East Lansing\, 48824\, United States
CATEGORIES:Global Business Club,IBC
END:VEVENT
END:VCALENDAR