BEGIN:VCALENDAR
VERSION:2.0
PRODID:-//International Business Center - ECPv6.15.17.1//NONSGML v1.0//EN
CALSCALE:GREGORIAN
METHOD:PUBLISH
X-WR-CALNAME:International Business Center
X-ORIGINAL-URL:https://ibc.broad.msu.edu
X-WR-CALDESC:Events for International Business Center
REFRESH-INTERVAL;VALUE=DURATION:PT1H
X-Robots-Tag:noindex
X-PUBLISHED-TTL:PT1H
BEGIN:VTIMEZONE
TZID:America/Detroit
BEGIN:DAYLIGHT
TZOFFSETFROM:-0500
TZOFFSETTO:-0400
TZNAME:EDT
DTSTART:20220313T070000
END:DAYLIGHT
BEGIN:STANDARD
TZOFFSETFROM:-0400
TZOFFSETTO:-0500
TZNAME:EST
DTSTART:20221106T060000
END:STANDARD
BEGIN:DAYLIGHT
TZOFFSETFROM:-0500
TZOFFSETTO:-0400
TZNAME:EDT
DTSTART:20230312T070000
END:DAYLIGHT
BEGIN:STANDARD
TZOFFSETFROM:-0400
TZOFFSETTO:-0500
TZNAME:EST
DTSTART:20231105T060000
END:STANDARD
BEGIN:DAYLIGHT
TZOFFSETFROM:-0500
TZOFFSETTO:-0400
TZNAME:EDT
DTSTART:20240310T070000
END:DAYLIGHT
BEGIN:STANDARD
TZOFFSETFROM:-0400
TZOFFSETTO:-0500
TZNAME:EST
DTSTART:20241103T060000
END:STANDARD
END:VTIMEZONE
BEGIN:VEVENT
DTSTART;TZID=America/Detroit:20230330T000000
DTEND;TZID=America/Detroit:20230330T000000
DTSTAMP:20260422T004852
CREATED:20240319T195912Z
LAST-MODIFIED:20240517T202455Z
UID:10000440-1680134400-1680134400@ibc.broad.msu.edu
SUMMARY:MSI Consortium: Paradoxes in Globally Responsible Research
DESCRIPTION:Globally responsible research is gaining critical attention for both scholars and practitioners across multiple disciplines. What are the paradoxes\, challenges\, and opportunities in conducting globally responsible research? How can multiple stakeholders address the polarizing demands of value creation\, inclusion\, and sustainability\, in timely and timeless ways? \nThis webinar will take a critical view of globally responsible research by discussing research topics\, methodologies\, and assessments to be adopted by scholars and administrators in higher education. The webinar takes a historical and broad view of globally responsible research and will offer insights for scholars\, educators\, and other stakeholders. \nAdditional information on webinar and panelists can be found by clicking the website URL \nThe webinar start time is EST.
URL:https://ibc.broad.msu.edu/event/msi-consortium-paradoxes-in-globally-responsible-research/
LOCATION:virtual
CATEGORIES:IBC
END:VEVENT
END:VCALENDAR