BEGIN:VCALENDAR
VERSION:2.0
PRODID:-//International Business Center - ECPv6.15.17.1//NONSGML v1.0//EN
CALSCALE:GREGORIAN
METHOD:PUBLISH
X-WR-CALNAME:International Business Center
X-ORIGINAL-URL:https://ibc.broad.msu.edu
X-WR-CALDESC:Events for International Business Center
REFRESH-INTERVAL;VALUE=DURATION:PT1H
X-Robots-Tag:noindex
X-PUBLISHED-TTL:PT1H
BEGIN:VTIMEZONE
TZID:America/Detroit
BEGIN:DAYLIGHT
TZOFFSETFROM:-0500
TZOFFSETTO:-0400
TZNAME:EDT
DTSTART:20220313T070000
END:DAYLIGHT
BEGIN:STANDARD
TZOFFSETFROM:-0400
TZOFFSETTO:-0500
TZNAME:EST
DTSTART:20221106T060000
END:STANDARD
BEGIN:DAYLIGHT
TZOFFSETFROM:-0500
TZOFFSETTO:-0400
TZNAME:EDT
DTSTART:20230312T070000
END:DAYLIGHT
BEGIN:STANDARD
TZOFFSETFROM:-0400
TZOFFSETTO:-0500
TZNAME:EST
DTSTART:20231105T060000
END:STANDARD
BEGIN:DAYLIGHT
TZOFFSETFROM:-0500
TZOFFSETTO:-0400
TZNAME:EDT
DTSTART:20240310T070000
END:DAYLIGHT
BEGIN:STANDARD
TZOFFSETFROM:-0400
TZOFFSETTO:-0500
TZNAME:EST
DTSTART:20241103T060000
END:STANDARD
END:VTIMEZONE
BEGIN:VEVENT
DTSTART;TZID=America/Detroit:20230403T000000
DTEND;TZID=America/Detroit:20230403T000000
DTSTAMP:20260422T004854
CREATED:20240319T195913Z
LAST-MODIFIED:20240517T202431Z
UID:10000439-1680480000-1680480000@ibc.broad.msu.edu
SUMMARY:MSI Consortium: Learning and Leading Through a Global Turnaround
DESCRIPTION:When Ravi Saligram joined Newell Brands in 2019 as President & CEO\, the company was experiencing poor performance\, low employee engagement\, and excessive complexity. In 2020\, Ravi and the world-class leadership team hed built were also faced with leading through the unexpected and monumental issues presented by COVID. Despite these challenges\, employee engagement scores increased significantly\, and the companys turnaround efforts persisted. \nWhile Ravi announced his May retirement earlier this year\, theres no doubt the company has strengthened during his tenure. Complexity and overhead costs have been reduced; Project Ovid\, a multi-year initiative consolidating 23 unique supply chains into one\, was successfully implemented; a new innovation operating model was introduced\, and innovations were launched that leveraged COVID trends; automation has been scaled\, and the company has best-in-class productivity and safety records. Notably\, Newell Brands was named one of Fortunes Most Admired Companies in 2022 and 2023\, a recognition it had not previously received. \nRavi is a three-time public CEO\, also having led OfficeMax\, Inc. and Ritchie Brothers. Despite arriving in the United States with less than $20 in his pocket\, he earned an MBA from the University of Michigan\, Ann Arbor. He has lived in six countries and worked in many more during his nearly 40-year career\, which began at Leo Burnett in Chicago. \nDuring this [webinar/course/event]\, Ravi will speak with Global Atlanta Managing Editor Trevor Williams and share: \n	The importance of a people-first approach and how to drive a culture of engagement \n	How companies can foster diversity\, inclusion\, and belonging and be a force for good \n	The necessity of cross-cultural competency and how international experience shapes perspective \nAll times are EST. This is a free webinar\, but registration is required.
URL:https://ibc.broad.msu.edu/event/msi-consortium-learning-and-leading-through-a-global-turnaround/
LOCATION:virtual
CATEGORIES:IBC
END:VEVENT
BEGIN:VEVENT
DTSTART;TZID=America/Detroit:20230406T000000
DTEND;TZID=America/Detroit:20230406T000000
DTSTAMP:20260422T004854
CREATED:20240319T195913Z
LAST-MODIFIED:20240517T202323Z
UID:10000438-1680739200-1680739200@ibc.broad.msu.edu
SUMMARY:Lansing Regional Chamber: MSU Athletic Director\, Alan Haller
DESCRIPTION:Learn more about the goals of the MSU Athletics Department and the current state of MSU Athletics from Alan Haller\, vice president and director of athletics at Michigan State University during theLansingEconomicClub.The conversation will be moderated by Audrey Dahlgren\, sports director\, WLNS.
URL:https://ibc.broad.msu.edu/event/lansing-regional-chamber-msu-athletic-director-alan-haller/
LOCATION:Kellogg Hotel & Conference Center\, 219 S Harrison Rd\, East Lansing\, 48824\, United States
CATEGORIES:IBC
END:VEVENT
END:VCALENDAR