BEGIN:VCALENDAR
VERSION:2.0
PRODID:-//International Business Center - ECPv6.15.17.1//NONSGML v1.0//EN
CALSCALE:GREGORIAN
METHOD:PUBLISH
X-WR-CALNAME:International Business Center
X-ORIGINAL-URL:https://ibc.broad.msu.edu
X-WR-CALDESC:Events for International Business Center
REFRESH-INTERVAL;VALUE=DURATION:PT1H
X-Robots-Tag:noindex
X-PUBLISHED-TTL:PT1H
BEGIN:VTIMEZONE
TZID:America/Detroit
BEGIN:DAYLIGHT
TZOFFSETFROM:-0500
TZOFFSETTO:-0400
TZNAME:EDT
DTSTART:20220313T070000
END:DAYLIGHT
BEGIN:STANDARD
TZOFFSETFROM:-0400
TZOFFSETTO:-0500
TZNAME:EST
DTSTART:20221106T060000
END:STANDARD
BEGIN:DAYLIGHT
TZOFFSETFROM:-0500
TZOFFSETTO:-0400
TZNAME:EDT
DTSTART:20230312T070000
END:DAYLIGHT
BEGIN:STANDARD
TZOFFSETFROM:-0400
TZOFFSETTO:-0500
TZNAME:EST
DTSTART:20231105T060000
END:STANDARD
BEGIN:DAYLIGHT
TZOFFSETFROM:-0500
TZOFFSETTO:-0400
TZNAME:EDT
DTSTART:20240310T070000
END:DAYLIGHT
BEGIN:STANDARD
TZOFFSETFROM:-0400
TZOFFSETTO:-0500
TZNAME:EST
DTSTART:20241103T060000
END:STANDARD
END:VTIMEZONE
BEGIN:VEVENT
DTSTART;TZID=America/Detroit:20230926T000000
DTEND;TZID=America/Detroit:20230926T000000
DTSTAMP:20260425T111533
CREATED:20240319T195925Z
LAST-MODIFIED:20240517T190032Z
UID:10000422-1695686400-1695686400@ibc.broad.msu.edu
SUMMARY:Michigan Automotive / Mobility Export Roundtable Discussion
DESCRIPTION:If you are aMichigan automotive / mobility company currently selling into international markets or planning to grow your international customer base\, we want to hear from you! \nPlease join the MSU International Business Center\, Michigan Economic Development Corporation (MEDC)\, and Ann Arbor Spark for a discussion on the current state of exports in your industry. \nThrough participating you will have an opportunity toconnect directly with others in your field\, hear where they are exporting to\, what trade shows they are attending\, and discuss the biggest growth and expansion successes and challenges. Feedback will also help shape the direction for our resources\, as we are constantly seeking the best way to support your growing business.
URL:https://ibc.broad.msu.edu/event/michigan-automotive-mobility-export-roundtable-discussion/
LOCATION:Ann Arbor Spark\, 330 E Liberty St\, Ann Arbor\, 48104\, United States
CATEGORIES:IBC
END:VEVENT
END:VCALENDAR