BEGIN:VCALENDAR
VERSION:2.0
PRODID:-//International Business Center - ECPv6.15.17.1//NONSGML v1.0//EN
CALSCALE:GREGORIAN
METHOD:PUBLISH
X-WR-CALNAME:International Business Center
X-ORIGINAL-URL:https://ibc.broad.msu.edu
X-WR-CALDESC:Events for International Business Center
REFRESH-INTERVAL;VALUE=DURATION:PT1H
X-Robots-Tag:noindex
X-PUBLISHED-TTL:PT1H
BEGIN:VTIMEZONE
TZID:America/Detroit
BEGIN:DAYLIGHT
TZOFFSETFROM:-0500
TZOFFSETTO:-0400
TZNAME:EDT
DTSTART:20220313T070000
END:DAYLIGHT
BEGIN:STANDARD
TZOFFSETFROM:-0400
TZOFFSETTO:-0500
TZNAME:EST
DTSTART:20221106T060000
END:STANDARD
BEGIN:DAYLIGHT
TZOFFSETFROM:-0500
TZOFFSETTO:-0400
TZNAME:EDT
DTSTART:20230312T070000
END:DAYLIGHT
BEGIN:STANDARD
TZOFFSETFROM:-0400
TZOFFSETTO:-0500
TZNAME:EST
DTSTART:20231105T060000
END:STANDARD
BEGIN:DAYLIGHT
TZOFFSETFROM:-0500
TZOFFSETTO:-0400
TZNAME:EDT
DTSTART:20240310T070000
END:DAYLIGHT
BEGIN:STANDARD
TZOFFSETFROM:-0400
TZOFFSETTO:-0500
TZNAME:EST
DTSTART:20241103T060000
END:STANDARD
END:VTIMEZONE
BEGIN:VEVENT
DTSTART;TZID=America/Detroit:20231103T000000
DTEND;TZID=America/Detroit:20231103T000000
DTSTAMP:20260425T092039
CREATED:20240319T200000Z
LAST-MODIFIED:20240517T185242Z
UID:10000419-1698969600-1698969600@ibc.broad.msu.edu
SUMMARY:Research Spotlight: Meaning of Brands in an Increasingly Complex World
DESCRIPTION:For this webinar\, we invited three international business/marketing scholars who have published important work in global branding area with specific focus on the meaning of brands across cultures. Our panelists will discuss their perspectives on addressing contemporary conceptual and methodological best practices necessary for publishing work in this area in major journals. \nThis webinar will include short presentations followed by a discussion moderated by the co-hosts. \nTimes are EDT. This is a free webinar\, but registration is required as meeting details will be sent.
URL:https://ibc.broad.msu.edu/event/research-spotlight-meaning-of-brands-in-an-increasingly-complex-world/
LOCATION:virtual
CATEGORIES:IBC
END:VEVENT
END:VCALENDAR