BEGIN:VCALENDAR
VERSION:2.0
PRODID:-//International Business Center - ECPv6.15.17.1//NONSGML v1.0//EN
CALSCALE:GREGORIAN
METHOD:PUBLISH
X-WR-CALNAME:International Business Center
X-ORIGINAL-URL:https://ibc.broad.msu.edu
X-WR-CALDESC:Events for International Business Center
REFRESH-INTERVAL;VALUE=DURATION:PT1H
X-Robots-Tag:noindex
X-PUBLISHED-TTL:PT1H
BEGIN:VTIMEZONE
TZID:America/Detroit
BEGIN:DAYLIGHT
TZOFFSETFROM:-0500
TZOFFSETTO:-0400
TZNAME:EDT
DTSTART:20220313T070000
END:DAYLIGHT
BEGIN:STANDARD
TZOFFSETFROM:-0400
TZOFFSETTO:-0500
TZNAME:EST
DTSTART:20221106T060000
END:STANDARD
BEGIN:DAYLIGHT
TZOFFSETFROM:-0500
TZOFFSETTO:-0400
TZNAME:EDT
DTSTART:20230312T070000
END:DAYLIGHT
BEGIN:STANDARD
TZOFFSETFROM:-0400
TZOFFSETTO:-0500
TZNAME:EST
DTSTART:20231105T060000
END:STANDARD
BEGIN:DAYLIGHT
TZOFFSETFROM:-0500
TZOFFSETTO:-0400
TZNAME:EDT
DTSTART:20240310T070000
END:DAYLIGHT
BEGIN:STANDARD
TZOFFSETFROM:-0400
TZOFFSETTO:-0500
TZNAME:EST
DTSTART:20241103T060000
END:STANDARD
END:VTIMEZONE
BEGIN:VEVENT
DTSTART;TZID=America/Detroit:20231113T000000
DTEND;TZID=America/Detroit:20231113T000000
DTSTAMP:20260423T175941
CREATED:20240319T200002Z
LAST-MODIFIED:20240517T184836Z
UID:10000415-1699833600-1699833600@ibc.broad.msu.edu
SUMMARY:MSI Consortium: Unlocking Strategic Insights Across Borders
DESCRIPTION:Strategic insight generation has been utilizing technology-driven analytical capabilities for some time and with the recent developments introduced through Generative AI\, more are to come. However\, no matter how tools change\, clear understanding of differences across borders remains essential. \nThis session explores the practical aspects of customizing marketing research to leverage local norms and values\, emphasizing the critical importance of cultural competence. \nKey Takeaways: \n1.Explore the significance of insight generation for international businesses. \n2.Examine the variances in marketing research and insight generation between countries and the impact of cultural differences. \n3.Identify the challenges and critical success factors in international marketing research and gain practical recommendations. \nThis is a FREE webinar\, but pre-registration is required. Zoom details will be sent to registered participants
URL:https://ibc.broad.msu.edu/event/msi-consortium-unlocking-strategic-insights-across-borders/
LOCATION:virtual
CATEGORIES:IBC
END:VEVENT
BEGIN:VEVENT
DTSTART;TZID=America/Detroit:20231117T000000
DTEND;TZID=America/Detroit:20231117T000000
DTSTAMP:20260423T175941
CREATED:20240319T195947Z
LAST-MODIFIED:20240517T184752Z
UID:10000414-1700179200-1700179200@ibc.broad.msu.edu
SUMMARY:2023 Broad College International Business Student Case Competition
DESCRIPTION:IBC/MSU-CIBER is organizing an international business student case competition in the Broad College. The student teams will have 3 days to work on the business case and present their solutions to a panel of industry judges. Each presentation will last for 20 min\, followed by 10 min Q&A session. \nYou are invited! \n	$4\,000 competition award fund: $2\,000 for the 1st place\, $1\,000 for the 2nd place\, $600 for the 3rd place\, $400 for the 4th place \n	Gain valuable experience and make yourself more marketable (unique line on a resume\, topic of conversation in interviews\, etc.) \n	Each participant will receive Case in Point: Case Competition book\, a great toolkit for case preparation \n	Potential to represent Broad College at the national case competitions \nEligibility \n	The competition is open to Broad College undergraduate students \n	Each team must consist of 4 students. Participants can either: \n		form a team of 4 students (preferred option) or \n		express interest and be assigned to a team by organizers \nEntrants will be accepted on a first come first serve basis\, Apply early! \nDetailed competition rules are presented in the attached file (below) \nCompetition sign-up deadline: November 3\, 2023 \nRegistration Link:https://msu.co1.qualtrics.com/jfe/form/SV_2s42vUNwmuoBtfo \nFor more information\, please contact: \nJunyu Sun at \nsunjunyu@msu.edu
URL:https://ibc.broad.msu.edu/event/2023-broad-college-international-business-student-case-competition/
LOCATION:Broad College of Business: Minskoff Pavilion – M025\, 645 N Shaw Ln\, East Lansing\, MI\, 48824\, United States
CATEGORIES:IBC
END:VEVENT
END:VCALENDAR