BEGIN:VCALENDAR
VERSION:2.0
PRODID:-//International Business Center - ECPv6.15.17.1//NONSGML v1.0//EN
CALSCALE:GREGORIAN
METHOD:PUBLISH
X-WR-CALNAME:International Business Center
X-ORIGINAL-URL:https://ibc.broad.msu.edu
X-WR-CALDESC:Events for International Business Center
REFRESH-INTERVAL;VALUE=DURATION:PT1H
X-Robots-Tag:noindex
X-PUBLISHED-TTL:PT1H
BEGIN:VTIMEZONE
TZID:UTC
BEGIN:STANDARD
TZOFFSETFROM:+0000
TZOFFSETTO:+0000
TZNAME:UTC
DTSTART:20230101T000000
END:STANDARD
END:VTIMEZONE
BEGIN:VEVENT
DTSTART;TZID=UTC:20241106T113000
DTEND;TZID=UTC:20241106T133000
DTSTAMP:20260422T194327
CREATED:20241028T160353Z
LAST-MODIFIED:20241028T160353Z
UID:10001239-1730892600-1730899800@ibc.broad.msu.edu
SUMMARY:Lansing Economic Club: Celebration of Regional Growth Awards
DESCRIPTION:As part of the Lansing Economic Club speaker series\, the Lansing Regional Chamber of Commerce will honor five organizations for their investments that are reshaping and transforming our region during the 19th annual Celebration of Regional Growth (CORG) Awards. Since 2006\, more than 90 companies have been recognized and have combined to contribute $3 billion in investment in the regional economy. If you are interested in attending\, please reach out to Ronda Bunnell at bunnell@msu.edu to see if there is availability at our table. \nThis year we are pleased to recognize the following organizations:\n•	Amazon\n•	Capital Area Housing Partnership\n•	Grewal Hall\n•	Midwest Power Equipment\n•	Midwest Press & Automation
URL:https://ibc.broad.msu.edu/event/lansing-economic-club-celebration-of-regional-growth-awards-2/
LOCATION:Kellogg Hotel & Conference Center\, 219 S Harrison Rd\, East Lansing\, 48824\, United States
END:VEVENT
END:VCALENDAR