BEGIN:VCALENDAR
VERSION:2.0
PRODID:-//International Business Center - ECPv6.15.17.1//NONSGML v1.0//EN
CALSCALE:GREGORIAN
METHOD:PUBLISH
X-WR-CALNAME:International Business Center
X-ORIGINAL-URL:https://ibc.broad.msu.edu
X-WR-CALDESC:Events for International Business Center
REFRESH-INTERVAL;VALUE=DURATION:PT1H
X-Robots-Tag:noindex
X-PUBLISHED-TTL:PT1H
BEGIN:VTIMEZONE
TZID:America/Detroit
BEGIN:DAYLIGHT
TZOFFSETFROM:-0500
TZOFFSETTO:-0400
TZNAME:EDT
DTSTART:20240310T070000
END:DAYLIGHT
BEGIN:STANDARD
TZOFFSETFROM:-0400
TZOFFSETTO:-0500
TZNAME:EST
DTSTART:20241103T060000
END:STANDARD
BEGIN:DAYLIGHT
TZOFFSETFROM:-0500
TZOFFSETTO:-0400
TZNAME:EDT
DTSTART:20250309T070000
END:DAYLIGHT
BEGIN:STANDARD
TZOFFSETFROM:-0400
TZOFFSETTO:-0500
TZNAME:EST
DTSTART:20251102T060000
END:STANDARD
BEGIN:DAYLIGHT
TZOFFSETFROM:-0500
TZOFFSETTO:-0400
TZNAME:EDT
DTSTART:20260308T070000
END:DAYLIGHT
BEGIN:STANDARD
TZOFFSETFROM:-0400
TZOFFSETTO:-0500
TZNAME:EST
DTSTART:20261101T060000
END:STANDARD
END:VTIMEZONE
BEGIN:VEVENT
DTSTART;TZID=America/Detroit:20250206T110000
DTEND;TZID=America/Detroit:20250206T120000
DTSTAMP:20260422T012155
CREATED:20250122T170147Z
LAST-MODIFIED:20260121T184736Z
UID:10001246-1738839600-1738843200@ibc.broad.msu.edu
SUMMARY:“Ask\, Believe\, Cultivate - Adjust\, Balance\, Create - Amplify\, Bridge\, Contribute. The ABC of Navigating Research (and Academia) across Career Stages"
DESCRIPTION:Drawing on her 35 years of experience of working in academia\, Professor Anne-Wil Harzing shares her ideas on how to navigate the sometimes choppy waters of research (and academia) across career stages. Her talk will cover early\, mid\, and late career stages\, and shows how our priorities (should) change over time. \nThe aim of the presentation is to challenge the audience to reflect on how they can successfully navigate the career stage they are currently in. However\, it will also ask the audience to share what they would like those at other career stages than their own to understand about the unique challenges of their own career stage. As such it hopes to build mutual understanding between scholars at different career stages. \nTakeaways: \n\n Different career stages (should) come with different research priorities and challenges.\n Each career stage has its own lead theme: survival\, identity\, and legacy.\n Collaboration between scholars at different career stages requires mutual understanding of different priorities and challenges.\n\nThis webinar is FREE and open to all\, but registration is required.\nZoom details will be sent to all registered participants.
URL:https://ibc.broad.msu.edu/event/ask-believe-cultivate-adjust-balance-create-amplify-bridge-contribute-the-abc-of-navigating-research-and-academia-across-career-stages/
CATEGORIES:IBC
ORGANIZER;CN="GSU CIBER":MAILTO:gsuciber@gsu.edu
END:VEVENT
END:VCALENDAR