BEGIN:VCALENDAR
VERSION:2.0
PRODID:-//International Business Center - ECPv6.15.17.1//NONSGML v1.0//EN
CALSCALE:GREGORIAN
METHOD:PUBLISH
X-WR-CALNAME:International Business Center
X-ORIGINAL-URL:https://ibc.broad.msu.edu
X-WR-CALDESC:Events for International Business Center
REFRESH-INTERVAL;VALUE=DURATION:PT1H
X-Robots-Tag:noindex
X-PUBLISHED-TTL:PT1H
BEGIN:VTIMEZONE
TZID:America/Detroit
BEGIN:DAYLIGHT
TZOFFSETFROM:-0500
TZOFFSETTO:-0400
TZNAME:EDT
DTSTART:20240310T070000
END:DAYLIGHT
BEGIN:STANDARD
TZOFFSETFROM:-0400
TZOFFSETTO:-0500
TZNAME:EST
DTSTART:20241103T060000
END:STANDARD
BEGIN:DAYLIGHT
TZOFFSETFROM:-0500
TZOFFSETTO:-0400
TZNAME:EDT
DTSTART:20250309T070000
END:DAYLIGHT
BEGIN:STANDARD
TZOFFSETFROM:-0400
TZOFFSETTO:-0500
TZNAME:EST
DTSTART:20251102T060000
END:STANDARD
BEGIN:DAYLIGHT
TZOFFSETFROM:-0500
TZOFFSETTO:-0400
TZNAME:EDT
DTSTART:20260308T070000
END:DAYLIGHT
BEGIN:STANDARD
TZOFFSETFROM:-0400
TZOFFSETTO:-0500
TZNAME:EST
DTSTART:20261101T060000
END:STANDARD
END:VTIMEZONE
BEGIN:VEVENT
DTSTART;TZID=America/Detroit:20250213T110000
DTEND;TZID=America/Detroit:20250213T120000
DTSTAMP:20260422T121358
CREATED:20250127T154248Z
LAST-MODIFIED:20250127T154248Z
UID:10001247-1739444400-1739448000@ibc.broad.msu.edu
SUMMARY:“Leveraging International Partnerships for Student Success"
DESCRIPTION:This engaging and practical webinar will be on leveraging international partnerships in higher education for student success. This informative webinar will explore strategies and best practices for building and sustaining impactful international partnerships in higher education. The session will cover innovative approaches to fostering collaboration and enhancing student success through global initiatives. \nKey Topics to Be Addressed:\n• Co-Designing High-Impact Practices through Virtual Exchange (Global Collaborative Learning): Learn how virtual exchange can connect students across borders\, fostering teamwork\, cultural understanding\, and mutual learning.\n• Developing Joint Research through Cross-Border Educational Collaboration: Explore ways to establish meaningful research partnerships that create value for institutions\, faculty\, and students.\n• Applying for and Securing Third-Party Funding: Understand practical strategies for identifying funding opportunities and developing successful proposals to support global education projects.\n• Enhancing Curriculum Design and Study Abroad Programs: Examine case studies of immersive and experiential programs that integrate real-world learning and foster global citizenship. \nThis webinar is FREE and open to all\, but registration is required.\nZoom details will be sent to all registered participants.
URL:https://ibc.broad.msu.edu/event/leveraging-international-partnerships-for-student-success/
ORGANIZER;CN="GSU CIBER":MAILTO:gsuciber@gsu.edu
END:VEVENT
END:VCALENDAR