BEGIN:VCALENDAR
VERSION:2.0
PRODID:-//International Business Center - ECPv6.15.17.1//NONSGML v1.0//EN
CALSCALE:GREGORIAN
METHOD:PUBLISH
X-WR-CALNAME:International Business Center
X-ORIGINAL-URL:https://ibc.broad.msu.edu
X-WR-CALDESC:Events for International Business Center
REFRESH-INTERVAL;VALUE=DURATION:PT1H
X-Robots-Tag:noindex
X-PUBLISHED-TTL:PT1H
BEGIN:VTIMEZONE
TZID:America/Detroit
BEGIN:DAYLIGHT
TZOFFSETFROM:-0500
TZOFFSETTO:-0400
TZNAME:EDT
DTSTART:20170312T070000
END:DAYLIGHT
BEGIN:STANDARD
TZOFFSETFROM:-0400
TZOFFSETTO:-0500
TZNAME:EST
DTSTART:20171105T060000
END:STANDARD
BEGIN:DAYLIGHT
TZOFFSETFROM:-0500
TZOFFSETTO:-0400
TZNAME:EDT
DTSTART:20180311T070000
END:DAYLIGHT
BEGIN:STANDARD
TZOFFSETFROM:-0400
TZOFFSETTO:-0500
TZNAME:EST
DTSTART:20181104T060000
END:STANDARD
BEGIN:DAYLIGHT
TZOFFSETFROM:-0500
TZOFFSETTO:-0400
TZNAME:EDT
DTSTART:20190310T070000
END:DAYLIGHT
BEGIN:STANDARD
TZOFFSETFROM:-0400
TZOFFSETTO:-0500
TZNAME:EST
DTSTART:20191103T060000
END:STANDARD
END:VTIMEZONE
BEGIN:VEVENT
DTSTART;TZID=America/Detroit:20180410T000000
DTEND;TZID=America/Detroit:20180410T000000
DTSTAMP:20260425T111529
CREATED:20240319T195459Z
LAST-MODIFIED:20240520T165450Z
UID:10000652-1523318400-1523318400@ibc.broad.msu.edu
SUMMARY:CITD 2018 Educator's Conference: Global Competencies in the Classroom and the Workforce
DESCRIPTION:By integrating global business coursework and modules into the class curriculum\, students will begin to have a firm understanding of the inter-connectivity of global commerce and its implications in their daily lives. Join us and find out how.
URL:https://ibc.broad.msu.edu/event/citd-2018-educators-conference-global-competencies-in-the-classroom-and-the-workforce/
LOCATION:Long Beach\, CA\, Long Beach\, United States
CATEGORIES:IBC
END:VEVENT
END:VCALENDAR