BEGIN:VCALENDAR
VERSION:2.0
PRODID:-//International Business Center - ECPv6.15.17.1//NONSGML v1.0//EN
CALSCALE:GREGORIAN
METHOD:PUBLISH
X-WR-CALNAME:International Business Center
X-ORIGINAL-URL:https://ibc.broad.msu.edu
X-WR-CALDESC:Events for International Business Center
REFRESH-INTERVAL;VALUE=DURATION:PT1H
X-Robots-Tag:noindex
X-PUBLISHED-TTL:PT1H
BEGIN:VTIMEZONE
TZID:America/Detroit
BEGIN:DAYLIGHT
TZOFFSETFROM:-0500
TZOFFSETTO:-0400
TZNAME:EDT
DTSTART:19980405T070000
END:DAYLIGHT
BEGIN:STANDARD
TZOFFSETFROM:-0400
TZOFFSETTO:-0500
TZNAME:EST
DTSTART:19981025T060000
END:STANDARD
BEGIN:DAYLIGHT
TZOFFSETFROM:-0500
TZOFFSETTO:-0400
TZNAME:EDT
DTSTART:19990404T070000
END:DAYLIGHT
BEGIN:STANDARD
TZOFFSETFROM:-0400
TZOFFSETTO:-0500
TZNAME:EST
DTSTART:19991031T060000
END:STANDARD
BEGIN:DAYLIGHT
TZOFFSETFROM:-0500
TZOFFSETTO:-0400
TZNAME:EDT
DTSTART:20000402T070000
END:DAYLIGHT
BEGIN:STANDARD
TZOFFSETFROM:-0400
TZOFFSETTO:-0500
TZNAME:EST
DTSTART:20001029T060000
END:STANDARD
BEGIN:DAYLIGHT
TZOFFSETFROM:-0500
TZOFFSETTO:-0400
TZNAME:EDT
DTSTART:20010401T070000
END:DAYLIGHT
BEGIN:STANDARD
TZOFFSETFROM:-0400
TZOFFSETTO:-0500
TZNAME:EST
DTSTART:20011028T060000
END:STANDARD
BEGIN:DAYLIGHT
TZOFFSETFROM:-0500
TZOFFSETTO:-0400
TZNAME:EDT
DTSTART:20020407T070000
END:DAYLIGHT
BEGIN:STANDARD
TZOFFSETFROM:-0400
TZOFFSETTO:-0500
TZNAME:EST
DTSTART:20021027T060000
END:STANDARD
BEGIN:DAYLIGHT
TZOFFSETFROM:-0500
TZOFFSETTO:-0400
TZNAME:EDT
DTSTART:20030406T070000
END:DAYLIGHT
BEGIN:STANDARD
TZOFFSETFROM:-0400
TZOFFSETTO:-0500
TZNAME:EST
DTSTART:20031026T060000
END:STANDARD
BEGIN:DAYLIGHT
TZOFFSETFROM:-0500
TZOFFSETTO:-0400
TZNAME:EDT
DTSTART:20040404T070000
END:DAYLIGHT
BEGIN:STANDARD
TZOFFSETFROM:-0400
TZOFFSETTO:-0500
TZNAME:EST
DTSTART:20041031T060000
END:STANDARD
BEGIN:DAYLIGHT
TZOFFSETFROM:-0500
TZOFFSETTO:-0400
TZNAME:EDT
DTSTART:20050403T070000
END:DAYLIGHT
BEGIN:STANDARD
TZOFFSETFROM:-0400
TZOFFSETTO:-0500
TZNAME:EST
DTSTART:20051030T060000
END:STANDARD
BEGIN:DAYLIGHT
TZOFFSETFROM:-0500
TZOFFSETTO:-0400
TZNAME:EDT
DTSTART:20060402T070000
END:DAYLIGHT
BEGIN:STANDARD
TZOFFSETFROM:-0400
TZOFFSETTO:-0500
TZNAME:EST
DTSTART:20061029T060000
END:STANDARD
BEGIN:DAYLIGHT
TZOFFSETFROM:-0500
TZOFFSETTO:-0400
TZNAME:EDT
DTSTART:20070311T070000
END:DAYLIGHT
BEGIN:STANDARD
TZOFFSETFROM:-0400
TZOFFSETTO:-0500
TZNAME:EST
DTSTART:20071104T060000
END:STANDARD
BEGIN:DAYLIGHT
TZOFFSETFROM:-0500
TZOFFSETTO:-0400
TZNAME:EDT
DTSTART:20080309T070000
END:DAYLIGHT
BEGIN:STANDARD
TZOFFSETFROM:-0400
TZOFFSETTO:-0500
TZNAME:EST
DTSTART:20081102T060000
END:STANDARD
BEGIN:DAYLIGHT
TZOFFSETFROM:-0500
TZOFFSETTO:-0400
TZNAME:EDT
DTSTART:20090308T070000
END:DAYLIGHT
BEGIN:STANDARD
TZOFFSETFROM:-0400
TZOFFSETTO:-0500
TZNAME:EST
DTSTART:20091101T060000
END:STANDARD
BEGIN:DAYLIGHT
TZOFFSETFROM:-0500
TZOFFSETTO:-0400
TZNAME:EDT
DTSTART:20100314T070000
END:DAYLIGHT
BEGIN:STANDARD
TZOFFSETFROM:-0400
TZOFFSETTO:-0500
TZNAME:EST
DTSTART:20101107T060000
END:STANDARD
BEGIN:DAYLIGHT
TZOFFSETFROM:-0500
TZOFFSETTO:-0400
TZNAME:EDT
DTSTART:20110313T070000
END:DAYLIGHT
BEGIN:STANDARD
TZOFFSETFROM:-0400
TZOFFSETTO:-0500
TZNAME:EST
DTSTART:20111106T060000
END:STANDARD
BEGIN:DAYLIGHT
TZOFFSETFROM:-0500
TZOFFSETTO:-0400
TZNAME:EDT
DTSTART:20120311T070000
END:DAYLIGHT
BEGIN:STANDARD
TZOFFSETFROM:-0400
TZOFFSETTO:-0500
TZNAME:EST
DTSTART:20121104T060000
END:STANDARD
END:VTIMEZONE
BEGIN:VEVENT
DTSTART;TZID=America/Detroit:20110914T000000
DTEND;TZID=America/Detroit:20110914T000000
DTSTAMP:20260423T034640
CREATED:20240319T194346Z
LAST-MODIFIED:20240520T221440Z
UID:10000930-1315958400-1315958400@ibc.broad.msu.edu
SUMMARY:Global Business Club of Mid-Michigan: Why Singapore? Why Southeast Asia? Why Now?
DESCRIPTION:Speaker: The Honorable David I. AdelmanAmbassador Adelman and his colleagues will be addressing the state of Michigan about the benefits of strengthening our economic relationship with southeast Asia and the National Export Initiative (NEI)The Global Business Club of Mid-Michigan focuses on global issues of interest to the mid-Michigan business community. The monthly GB Club luncheons provide outstanding speakers and relaxed networking opportunities. With extensive international experience\, the speakers wrap personal insights around a practical and up-to-the-minute approach to conducting international trade.
URL:https://ibc.broad.msu.edu/event/global-business-club-of-mid-michigan-why-singapore-why-southeast-asia-why-now/
LOCATION:MSU Union\, 49 Abbot Rd\, East Lansing\, 48824\, United States
CATEGORIES:IBC
END:VEVENT
BEGIN:VEVENT
DTSTART;TZID=America/Detroit:20100322T000000
DTEND;TZID=America/Detroit:20100322T000000
DTSTAMP:20260423T034640
CREATED:20240319T194258Z
LAST-MODIFIED:20240520T231707Z
UID:10000977-1269216000-1269216000@ibc.broad.msu.edu
SUMMARY:MAES Lecture Series - Business and Climate Change - Dr. Bjorn Stigson\, World Business Council for Sustainable Development
DESCRIPTION:Bjorn Stigson is President of the World Business Council for Sustainable Development. He serves on the boards of or on committees advising the Chinese government\, the Dow Jones Sustainability Indexes\, the Kennedy School of Government at Harvard University\, the Clinton Global Initiative and the Global Reporting Initiative. He is a graduate of the Gothenburg School of Business Administration\, the Swedish Management Institute and Harvard Business School.
URL:https://ibc.broad.msu.edu/event/maes-lecture-series-business-and-climate-change-dr-bjorn-stigson-world-business-council-for-sustainable-development/
LOCATION:MSU Union\, 49 Abbot Rd\, East Lansing\, 48824\, United States
CATEGORIES:IBC
END:VEVENT
BEGIN:VEVENT
DTSTART;TZID=America/Detroit:20071118T000000
DTEND;TZID=America/Detroit:20071118T000000
DTSTAMP:20260423T034640
CREATED:20240319T194132Z
LAST-MODIFIED:20240521T004509Z
UID:10001068-1195344000-1195344000@ibc.broad.msu.edu
SUMMARY:Global Festival 2007
DESCRIPTION:At this 22nd annual festival\, MSU international student organizations and area nationality groups will share their cultures with exhibits\, performances of ethnic dances and music; fashion shows; and demonstrations of native games and crafts. The World Gift shop offers a variety of international art works\, jewelry\, glassware\, clothing\, stamps\, and a multitude of gift items (proceeds support scholarship fund for spouses of international students to attend MSU classes). The Global Cafe serves ethnic cuisine.
URL:https://ibc.broad.msu.edu/event/global-festival-2007/
LOCATION:MSU Union\, 49 Abbot Rd\, East Lansing\, 48824\, United States
CATEGORIES:IBC
END:VEVENT
BEGIN:VEVENT
DTSTART;TZID=America/Detroit:20071103T000000
DTEND;TZID=America/Detroit:20071103T000000
DTSTAMP:20260423T034640
CREATED:20240319T194123Z
LAST-MODIFIED:20240521T004613Z
UID:10001070-1194048000-1194048000@ibc.broad.msu.edu
SUMMARY:Celebrating Rumi in the 21st Century
DESCRIPTION:This conference examines the poetry & philosophy of Rumi\, the 13th-century Muslim poet\, philosopher\, & mystic\, & its relevance to contemporary understandings of Islamic culture. It also deals with renewed interests in Rumi’s writings in recent years throughout the Middle East\, Europe\, & the United States. The starting point of the conference is Rumi’s well-known verse “come\, come again\, whoever you are\, come!” Rumi’s eloquent & humanistic poetry\, written sometimes with a sense of humor\, creates a window on Islamic beliefs\, values\, & wisdom that is far removed from images of violence & terrorism. Bringing well-known scholars of Islamic mysticism\, Rumi\, & the Middle East together\, we explore Rumi’s writings\, their place in Islamic literature & society\, & their resurgence as bestsellers in the West. The universality of Rumi’s poetry fosters an understanding of the human experience that transcends the boundaries of nations\, religions\, & languages.
URL:https://ibc.broad.msu.edu/event/celebrating-rumi-in-the-21st-century/
LOCATION:MSU Union\, 49 Abbot Rd\, East Lansing\, 48824\, United States
CATEGORIES:IBC
END:VEVENT
BEGIN:VEVENT
DTSTART;TZID=America/Detroit:19990325T000000
DTEND;TZID=America/Detroit:19990325T000000
DTSTAMP:20260423T034640
CREATED:20240319T193947Z
LAST-MODIFIED:20240521T210741Z
UID:10001212-922320000-922320000@ibc.broad.msu.edu
SUMMARY:The Aloysius Dunaway Memorial Lecture by Douglass C. North
DESCRIPTION:The role of economic and political institutions in economic development is a subject of great interest today\, as many countries struggle with the transition from socialism to capitalism\, and developing countries in Asia and elsewhere have experienced financial crises.
URL:https://ibc.broad.msu.edu/event/the-aloysius-dunaway-memorial-lecture-by-douglass-c-north/
LOCATION:MSU Union\, 49 Abbot Rd\, East Lansing\, 48824\, United States
CATEGORIES:IBC
END:VEVENT
END:VCALENDAR